BEGIN:VCALENDAR
VERSION:2.0
PRODID:-//wp-events-plugin.com//7.2.3.1//EN
TZID:Europe/Berlin
X-WR-TIMEZONE:Europe/Berlin
BEGIN:VEVENT
UID:569@alpenverein-recklinghausen.de
DTSTART;TZID=Europe/Berlin:20260421T190000
DTEND;TZID=Europe/Berlin:20260421T213000
DTSTAMP:20260420T140523Z
URL:https://alpenverein-recklinghausen.de/kalender/4-vorstandsitzung-2026-
 dav-recklinghausen/
SUMMARY:4. Vorstandsitzung 2026 - DAV Recklinghausen
DESCRIPTION:Sitzung des Vorstandes DAV-Recklinghausen\nTagesordnung:\n\nwir
 d noch bekannt gegeben\n\n&nbsp\;\n\nNicht öffentlich\, vorstandsinterne 
 Sitzung per TEAMS (online)
ATTACH;FMTTYPE=image/jpeg:https://alpenverein-recklinghausen.de/wp-content
 /uploads/2026/03/Vorstandssitzung.jpg
CATEGORIES:Gremien,Vorstandsitzung
END:VEVENT
BEGIN:VTIMEZONE
TZID:Europe/Berlin
X-LIC-LOCATION:Europe/Berlin
BEGIN:DAYLIGHT
DTSTART:20260329T030000
TZOFFSETFROM:+0100
TZOFFSETTO:+0200
TZNAME:CEST
END:DAYLIGHT
END:VTIMEZONE
END:VCALENDAR