BEGIN:VCALENDAR
VERSION:2.0
PRODID:-//wp-events-plugin.com//7.2.3.1//EN
TZID:Europe/Berlin
X-WR-TIMEZONE:Europe/Berlin
BEGIN:VEVENT
UID:552@alpenverein-recklinghausen.de
DTSTART;TZID=Europe/Berlin:20260409T180000
DTEND;TZID=Europe/Berlin:20260409T200000
DTSTAMP:20260302T141017Z
URL:https://alpenverein-recklinghausen.de/kalender/berggruppe-bouldern-3/
SUMMARY:Berggruppe: Bouldern
DESCRIPTION:Walkmühlenweg 55\, 45661 Recklinghausen Einstein Boulderhalle\
 , Sofas neben der Theke\nElisa Lafuente Hernández\nBouldern trainert Kraf
 t und Technik auch fürs Klettern und Klettersteiggehen\, alles in geringe
 r Höhe\, so dass kein Sicherungsseil notwendig ist. Kletterschuhe oder sa
 ubere Sportschuhe mitbringen. Kletterschuhe können auch gegen Gebühr in 
 der Halle ausgeliehen werden.
CATEGORIES:Berggruppe
END:VEVENT
BEGIN:VTIMEZONE
TZID:Europe/Berlin
X-LIC-LOCATION:Europe/Berlin
BEGIN:DAYLIGHT
DTSTART:20260329T030000
TZOFFSETFROM:+0100
TZOFFSETTO:+0200
TZNAME:CEST
END:DAYLIGHT
END:VTIMEZONE
END:VCALENDAR