BEGIN:VCALENDAR
VERSION:2.0
PRODID:-//wp-events-plugin.com//7.2.3.1//EN
TZID:Europe/Berlin
X-WR-TIMEZONE:Europe/Berlin
BEGIN:VEVENT
UID:561@alpenverein-recklinghausen.de
DTSTART;TZID=Europe/Berlin:20260604T000000
DTEND;TZID=Europe/Berlin:20260606T000000
DTSTAMP:20260302T142528Z
URL:https://alpenverein-recklinghausen.de/kalender/berggruppe-gemeinschaft
 sfahrt-staufen/
SUMMARY:Berggruppe: Gemeinschaftsfahrt Staufen
DESCRIPTION:Am Bahnhof\, 83483 Bischofswiesen\n\nTreffpunkt: Bahnhof\nJuli
 an Tornow\n\nsiehe Ausschreibung im Kurs- und Tourenprogramm.
CATEGORIES:Berggruppe
END:VEVENT
BEGIN:VTIMEZONE
TZID:Europe/Berlin
X-LIC-LOCATION:Europe/Berlin
BEGIN:DAYLIGHT
DTSTART:20260329T030000
TZOFFSETFROM:+0100
TZOFFSETTO:+0200
TZNAME:CEST
END:DAYLIGHT
END:VTIMEZONE
END:VCALENDAR