BEGIN:VCALENDAR
VERSION:2.0
PRODID:-//wp-events-plugin.com//7.2.3.1//EN
TZID:Europe/Berlin
X-WR-TIMEZONE:Europe/Berlin
BEGIN:VEVENT
UID:562@alpenverein-recklinghausen.de
DTSTART;TZID=Europe/Berlin:20260614T100000
DTEND;TZID=Europe/Berlin:20260614T130000
DTSTAMP:20260302T142628Z
URL:https://alpenverein-recklinghausen.de/kalender/berggruppe-klettern-dui
 sburg-3/
SUMMARY:Berggruppe: Klettern Duisburg
DESCRIPTION:Emscherstraße 71\, 47137 Duisburg\n(bei Regen Alternativ im Ne
 oliet Bochum\, Flottmannstr. 53 h\, 44807 Bochum)\nTreffpunkt: Haupteingan
 g Landschaftspark\nElisa Lafuente Hernández\nGemeinsames Klettern (outdoo
 r) im Vorstieg in der Kletteranlage des DAV Duisburg. Jeder klettert eigen
 verantwortlich und muss die notwendige Sicherungskompetenz fürs Vorstiegs
 klettern besitzen. Eine kostenpflichtige (8 €) Anmeldung beim DAV Duisbu
 rg für die Nutzung der Anlage muss jeder Teilnehmer vorab selbsständig d
 urchführen. Kletterschuhe bitte mitbringen (kein Ausleih möglich). Seile
  wenn vorhanen ebenfalls mitbringen\, sonst können sie auch innerhalb der
  Gruppe organisiert werden.
CATEGORIES:Berggruppe
END:VEVENT
BEGIN:VTIMEZONE
TZID:Europe/Berlin
X-LIC-LOCATION:Europe/Berlin
BEGIN:DAYLIGHT
DTSTART:20260329T030000
TZOFFSETFROM:+0100
TZOFFSETTO:+0200
TZNAME:CEST
END:DAYLIGHT
END:VTIMEZONE
END:VCALENDAR