BEGIN:VCALENDAR
VERSION:2.0
PRODID:-//wp-events-plugin.com//7.2.3.1//EN
TZID:Europe/Berlin
X-WR-TIMEZONE:Europe/Berlin
BEGIN:VEVENT
UID:566@alpenverein-recklinghausen.de
DTSTART;TZID=Europe/Berlin:20260712T100000
DTEND;TZID=Europe/Berlin:20260712T100000
DTSTAMP:20260302T143033Z
URL:https://alpenverein-recklinghausen.de/kalender/berggruppe-klettern-ise
 nberg/
SUMMARY:Berggruppe: Klettern Isenberg
DESCRIPTION:Balkhauser Weg 16\, 42555 Nierenhof\n(bei Regen Alternativ im N
 eoliet Bochum\, Flottmannstr. 53 h\, 44807 Bochum)\nTreffpunkt: Parkplatz\
 nJulian Tornow\nGemeinsames Klettern (outdoor) im Vorstieg in der Klettera
 nlage des DAV Essen. Jeder klettert eigenverantwortlich und muss die notwe
 ndige Sicherungskompetenz fürs Vorstiegsklettern besitzen. Kletterschuhe 
 bitte mitbringen (kein Ausleih möglich). Seile wenn vorhanen ebenfalls mi
 tbringen\, sonst können sie auch innerhalb der Gruppe organisiert werden.
CATEGORIES:Berggruppe
END:VEVENT
BEGIN:VTIMEZONE
TZID:Europe/Berlin
X-LIC-LOCATION:Europe/Berlin
BEGIN:DAYLIGHT
DTSTART:20260329T030000
TZOFFSETFROM:+0100
TZOFFSETTO:+0200
TZNAME:CEST
END:DAYLIGHT
END:VTIMEZONE
END:VCALENDAR