BEGIN:VCALENDAR
VERSION:2.0
PRODID:-//wp-events-plugin.com//7.2.3.1//EN
TZID:Europe/Berlin
X-WR-TIMEZONE:Europe/Berlin
BEGIN:VEVENT
UID:553@alpenverein-recklinghausen.de
DTSTART;TZID=Europe/Berlin:20260419T100000
DTEND;TZID=Europe/Berlin:20260419T130000
DTSTAMP:20260302T141425Z
URL:https://alpenverein-recklinghausen.de/kalender/berggruppe-klettersteig
 -sicherungsuebungen-duisburg/
SUMMARY:Berggruppe: Klettersteig + Sicherungsübungen Duisburg
DESCRIPTION:Landschaftspark Duisburg Nord\n\nEmscherstraße 71\, 47137 Duis
 burg\n\nHaupteingang Landschaftspark\n\nJulian Tornow\n\nKenntnisse im Kle
 ttersteigggehen müssen vorhanden sein. Zusätzlich werden wir das Nachsic
 hern am Seil üben. Es handelt sich hierbei um das selbstständige Auffris
 chen der eigenen Kenntnisse\, nicht um einen Kurs für Einsteiger. Kletter
 gurt\, Kletterteigset und Helm (ggf. Seil und HMS-Karabiner) müssen mitge
 bracht werden\, können aber auch über den DAV entliehen werden (bitte vo
 rab organisieren).
CATEGORIES:Berggruppe
END:VEVENT
BEGIN:VTIMEZONE
TZID:Europe/Berlin
X-LIC-LOCATION:Europe/Berlin
BEGIN:DAYLIGHT
DTSTART:20260329T030000
TZOFFSETFROM:+0100
TZOFFSETTO:+0200
TZNAME:CEST
END:DAYLIGHT
END:VTIMEZONE
END:VCALENDAR