BEGIN:VCALENDAR
VERSION:2.0
PRODID:-//wp-events-plugin.com//7.2.3.1//EN
TZID:Europe/Berlin
X-WR-TIMEZONE:Europe/Berlin
BEGIN:VEVENT
UID:564@alpenverein-recklinghausen.de
DTSTART;TZID=Europe/Berlin:20260628T100000
DTEND;TZID=Europe/Berlin:20260628T120000
DTSTAMP:20260304T175005Z
URL:https://alpenverein-recklinghausen.de/kalender/berggruppe-trailrunde-h
 aard-2/
SUMMARY:Berggruppe: Trailrunning Haard
DESCRIPTION:Mutter Wehner\, Haardstraße 196\, 45739 Oer-Erckenschwick Einf
 ahrt zum Parkplatz (UTM 32U 377740 5725105)\nJulian Tornow\nca. 10 km\, ca
 . 300 hm. Laufschuhe und Sportbekleidung mitbringen. Damit jedes Fitnessle
 vel auf seine Kosten kommt\, laufen wir im Flache und bergab ein moderates
  Tempo und bergauf darf sich jeder auspowern. Gerne kehren wir im Anschlus
 s bei Mutter Wehner ein.
CATEGORIES:Berggruppe
END:VEVENT
BEGIN:VTIMEZONE
TZID:Europe/Berlin
X-LIC-LOCATION:Europe/Berlin
BEGIN:DAYLIGHT
DTSTART:20260329T030000
TZOFFSETFROM:+0100
TZOFFSETTO:+0200
TZNAME:CEST
END:DAYLIGHT
END:VTIMEZONE
END:VCALENDAR