BEGIN:VCALENDAR
VERSION:2.0
PRODID:-//wp-events-plugin.com//7.2.3.1//EN
TZID:Europe/Berlin
X-WR-TIMEZONE:Europe/Berlin
BEGIN:VEVENT
UID:559@alpenverein-recklinghausen.de
DTSTART;TZID=Europe/Berlin:20260521T180000
DTEND;TZID=Europe/Berlin:20260521T200000
DTSTAMP:20260304T174727Z
URL:https://alpenverein-recklinghausen.de/kalender/berggruppe-trailrunde-h
 alde-3/
SUMMARY:Berggruppe: Trailrunning Halde
DESCRIPTION:Doncaster-Platz 5\, 45699 Herten Treppen vor Parkplatz Wasserst
 offzentrum (UTM 32U 371740 5715084)\nAndré Lemke\nca. 8 km\, ca. 200 hm. 
 Laufschuhe und Sportbekleidung mitbringen. Damit jedes Fitnesslevel auf se
 ine Kosten kommt\, laufen wir im Flachen und bergab ein moderates Tempo un
 d bergauf darf sich jeder auspowern.
CATEGORIES:Berggruppe
END:VEVENT
BEGIN:VTIMEZONE
TZID:Europe/Berlin
X-LIC-LOCATION:Europe/Berlin
BEGIN:DAYLIGHT
DTSTART:20260329T030000
TZOFFSETFROM:+0100
TZOFFSETTO:+0200
TZNAME:CEST
END:DAYLIGHT
END:VTIMEZONE
END:VCALENDAR