BEGIN:VCALENDAR
VERSION:2.0
PRODID:-//wp-events-plugin.com//7.2.3.1//EN
TZID:Europe/Berlin
X-WR-TIMEZONE:Europe/Berlin
BEGIN:VEVENT
UID:551@alpenverein-recklinghausen.de
DTSTART;TZID=Europe/Berlin:20260326T180000
DTEND;TZID=Europe/Berlin:20260326T200000
DTSTAMP:20260304T174940Z
URL:https://alpenverein-recklinghausen.de/kalender/berggruppe-trailrunde-h
 alde/
SUMMARY:Berggruppe: Trailrunning Halde
DESCRIPTION:Doncaster-Platz 5\, 45699 Herten Treppen vor Parkplatz Wasserst
 offzentrum (UTM 32U 371740 5715084)\nJulian Tornow\nca. 8 km\, ca. 200 hm.
  Laufschuhe und Sportbekleidung mitbringen. Damit jedes Fitnesslevel auf s
 eine Kosten kommt\, laufen wir im Flachen und bergab ein moderates Tempo u
 nd bergauf darf sich jeder auspowern.
CATEGORIES:Berggruppe
END:VEVENT
BEGIN:VTIMEZONE
TZID:Europe/Berlin
X-LIC-LOCATION:Europe/Berlin
BEGIN:STANDARD
DTSTART:20251026T020000
TZOFFSETFROM:+0200
TZOFFSETTO:+0100
TZNAME:CET
END:STANDARD
END:VTIMEZONE
END:VCALENDAR