BEGIN:VCALENDAR
VERSION:2.0
PRODID:-//wp-events-plugin.com//7.2.3.1//EN
TZID:Europe/Berlin
X-WR-TIMEZONE:Europe/Berlin
BEGIN:VEVENT
UID:516@alpenverein-recklinghausen.de
DTSTART;TZID=Europe/Berlin:20260210T193000
DTEND;TZID=Europe/Berlin:20260210T213000
DTSTAMP:20260110T155458Z
URL:https://alpenverein-recklinghausen.de/kalender/sektionsabend-wanderung
 en-und-klettersteige-im-erzgebirge-mit-martin-kentschke/
SUMMARY:Sektionsabend: Wanderungen und Klettersteige im Erzgebirge Mit Mart
 in Kentschke
DESCRIPTION:
CATEGORIES:Sektionsabend
LOCATION:Becky‘s Kolpinghaus\, Herzogswall 38\,  Recklinghausen\, 45657\,
  Nordrhein-Westfalen\, Deutschland
X-APPLE-STRUCTURED-LOCATION;VALUE=URI;X-ADDRESS=Herzogswall 38\,  Recklingh
 ausen\, 45657\, Nordrhein-Westfalen\, Deutschland;X-APPLE-RADIUS=100;X-TIT
 LE=Becky‘s Kolpinghaus:geo:0,0
END:VEVENT
BEGIN:VTIMEZONE
TZID:Europe/Berlin
X-LIC-LOCATION:Europe/Berlin
BEGIN:STANDARD
DTSTART:20251026T020000
TZOFFSETFROM:+0200
TZOFFSETTO:+0100
TZNAME:CET
END:STANDARD
END:VTIMEZONE
END:VCALENDAR