BEGIN:VCALENDAR
VERSION:2.0
PRODID:-//wp-events-plugin.com//7.2.3.1//EN
TZID:Europe/Berlin
X-WR-TIMEZONE:Europe/Berlin
BEGIN:VEVENT
UID:530@alpenverein-recklinghausen.de
DTSTART;TZID=Europe/Berlin:20260517T090000
DTEND;TZID=Europe/Berlin:20260517T130000
DTSTAMP:20260110T163441Z
URL:https://alpenverein-recklinghausen.de/kalender/sonntagswanderung-teuto
 burger-wald-ueber-den-kammweg-12-km/
SUMMARY:Sonntagswanderung: Teutoburger Wald: Über den Kammweg – 12 km
DESCRIPTION:Sonntag\, 17.5.2026 – mit Ursi u. Roland Eichner (0178 164264
 3) Startpunkt: 10:00 Uhr\, Bahnhof Lengerich. \nEs besteht die Möglichkei
 t ohne Umstieg mit dem RE 2 ab Recklinghausen Hbf bis Lengerich zu fahren\
 , Abfahrtszeit ca. 9:00 Uhr. \nGenaue Angaben zur Abfahrtszeit bei Anmeldu
 ng.
CATEGORIES:Sonntagswanderung
END:VEVENT
BEGIN:VTIMEZONE
TZID:Europe/Berlin
X-LIC-LOCATION:Europe/Berlin
BEGIN:DAYLIGHT
DTSTART:20260329T030000
TZOFFSETFROM:+0100
TZOFFSETTO:+0200
TZNAME:CEST
END:DAYLIGHT
END:VTIMEZONE
END:VCALENDAR